BEGIN:VCALENDAR
VERSION:2.0
PRODID:-//https://www.townofantigonish.ca//NONSGML kigkonsult.se iCalcreato
 r 2.29.29//
CALSCALE:GREGORIAN
METHOD:PUBLISH
UID:26d73c54-f472-4dfb-a903-b29b6cdcd224
X-WR-CALNAME:JCal Pro Calendar
X-WR-CALDESC:Your online events calendar
X-WR-TIMEZONE:America/Halifax
BEGIN:VTIMEZONE
TZID:America/Halifax
BEGIN:STANDARD
TZNAME:AST
DTSTART:20251102T020000
TZOFFSETFROM:-0300
TZOFFSETTO:-0400
RDATE:20261101T020000
END:STANDARD
BEGIN:DAYLIGHT
TZNAME:ADT
DTSTART:20260308T020000
TZOFFSETFROM:-0400
TZOFFSETTO:-0300
RDATE:20270314T020000
END:DAYLIGHT
END:VTIMEZONE
BEGIN:VEVENT
UID:20250818T180000ADT-05164vWa2a@https://www.townofantigonish.ca/
DTSTAMP:20260425T150440Z
CATEGORIES:Council Meetings
DTSTART;TZID=America/Halifax:20260519T180000
DTEND;TZID=America/Halifax:20260519T180000
SUMMARY:Regular Council Meeting
URL:https://www.townofantigonish.ca/94-council-meetings/29-regular-council-
 meeting.html
END:VEVENT
END:VCALENDAR
