BEGIN:VCALENDAR
VERSION:2.0
PRODID:-//https://www.townofantigonish.ca//NONSGML kigkonsult.se iCalcreato
 r 2.29.29//
CALSCALE:GREGORIAN
METHOD:PUBLISH
UID:44dcc3e4-1969-44d4-88c4-415bf8322e36
X-WR-CALNAME:JCal Pro Calendar
X-WR-CALDESC:Your online events calendar
X-WR-TIMEZONE:America/Halifax
BEGIN:VTIMEZONE
TZID:America/Halifax
BEGIN:STANDARD
TZNAME:AST
DTSTART:20251102T020000
TZOFFSETFROM:-0300
TZOFFSETTO:-0400
RDATE:20261101T020000
END:STANDARD
BEGIN:DAYLIGHT
TZNAME:ADT
DTSTART:20260308T020000
TZOFFSETFROM:-0400
TZOFFSETTO:-0300
RDATE:20270314T020000
END:DAYLIGHT
END:VTIMEZONE
BEGIN:VEVENT
UID:20250304T180000AST-1220piUL7k@https://www.townofantigonish.ca/
DTSTAMP:20260425T150521Z
CATEGORIES:Council Meetings
DESCRIPTION:<p>Visit the <a href='council.html'>Council</a> page for more i
 nformation.</p>
DTSTART;TZID=America/Halifax:20260505T180000
DTEND;TZID=America/Halifax:20260505T180000
SUMMARY:Committee of the Whole Meeting
URL:https://www.townofantigonish.ca/94-council-meetings/5-committee-of-the-
 whole-meeting.html
X-ALT-DESC;FMTTYPE=TEXT/HTML:<p>Visit the <a href='council.html'>Council</a
 > page for more information.</p>
END:VEVENT
END:VCALENDAR
