BEGIN:VCALENDAR
VERSION:2.0
PRODID:-//https://www.townofantigonish.ca//NONSGML kigkonsult.se iCalcreato
 r 2.29.29//
CALSCALE:GREGORIAN
METHOD:PUBLISH
UID:db36eca3-949e-48c9-a95b-b02e7634ed2e
X-WR-CALNAME:JCal Pro Calendar
X-WR-CALDESC:Your online events calendar
X-WR-TIMEZONE:America/Halifax
BEGIN:VTIMEZONE
TZID:America/Halifax
BEGIN:STANDARD
TZNAME:AST
DTSTART:20251102T020000
TZOFFSETFROM:-0300
TZOFFSETTO:-0400
RDATE:20261101T020000
END:STANDARD
BEGIN:DAYLIGHT
TZNAME:ADT
DTSTART:20260308T020000
TZOFFSETFROM:-0400
TZOFFSETTO:-0300
RDATE:20270314T020000
END:DAYLIGHT
END:VTIMEZONE
BEGIN:VEVENT
UID:20260113T180000AST-07532lUFta@https://www.townofantigonish.ca/
DTSTAMP:20260420T160653Z
CATEGORIES:Council Meetings
DESCRIPTION:<p>There will be a Special Council Meeting next Tuesday\, Janua
 ry 13<sup>th</sup>&nbsp\;immediately following the Public Hearing that sta
 rts at 5:15pm.&nbsp\;</p>\n<p>Special Meeting will be to begin 2026-2027 I
 nfrastructure Planning.</p>\n<p><a href='https://teams.microsoft.com/l/mee
 tup-join/19%3ameeting_OTQ5Y2VmY2EtZjJlOS00MzE3LWJhNTMtOTI5MmVlZThkMzZm%40t
 hread.v2/0?context=%7b%22Tid%22%3a%2240d82e00-cee2-485a-bf6b-3e6c96f9b156%
 22%2c%22Oid%22%3a%2204cad40c-0798-4f76-ab56-a2ba1165ab57%22%7d'>Live Strea
 m Link</a></p>
DTSTART;TZID=America/Halifax:20260420T170000
DTEND;TZID=America/Halifax:20260420T170000
SUMMARY:Special Town Council Meeting
URL:https://www.townofantigonish.ca/94-council-meetings/69-special-town-cou
 ncil-meeting.html
X-ALT-DESC;FMTTYPE=TEXT/HTML:<p>There will be a Special Council Meeting nex
 t Tuesday\, January 13<sup>th</sup>&nbsp\;immediately following the Public
  Hearing that starts at 5:15pm.&nbsp\;</p>\n<p>Special Meeting will be to 
 begin 2026-2027 Infrastructure Planning.</p>\n<p><a href='https://teams.mi
 crosoft.com/l/meetup-join/19%3ameeting_OTQ5Y2VmY2EtZjJlOS00MzE3LWJhNTMtOTI
 5MmVlZThkMzZm%40thread.v2/0?context=%7b%22Tid%22%3a%2240d82e00-cee2-485a-b
 f6b-3e6c96f9b156%22%2c%22Oid%22%3a%2204cad40c-0798-4f76-ab56-a2ba1165ab57%
 22%7d'>Live Stream Link</a></p>
END:VEVENT
END:VCALENDAR
