BEGIN:VCALENDAR
VERSION:2.0
PRODID:-//https://www.townofantigonish.ca//NONSGML kigkonsult.se iCalcreato
 r 2.29.29//
CALSCALE:GREGORIAN
METHOD:PUBLISH
UID:5a43cc71-7774-45d8-9960-bbdbb5bef7f0
X-WR-CALNAME:JCal Pro Calendar
X-WR-CALDESC:Your online events calendar
X-WR-TIMEZONE:America/Halifax
BEGIN:VTIMEZONE
TZID:America/Halifax
BEGIN:STANDARD
TZNAME:AST
DTSTART:20251102T020000
TZOFFSETFROM:-0300
TZOFFSETTO:-0400
RDATE:20261101T020000
END:STANDARD
BEGIN:DAYLIGHT
TZNAME:ADT
DTSTART:20260308T020000
TZOFFSETFROM:-0400
TZOFFSETTO:-0300
RDATE:20270314T020000
END:DAYLIGHT
END:VTIMEZONE
BEGIN:VEVENT
UID:20260512T150000ADT-8878mLRKar@https://www.townofantigonish.ca/
DTSTAMP:20260422T144745Z
CATEGORIES:Committee Meetings
DTSTART;TZID=America/Halifax:20260512T150000
DTEND;TZID=America/Halifax:20260512T150000
SUMMARY:James River Watershed Stewardship Board Meeting
URL:https://www.townofantigonish.ca/95-committee-meetings/76-james-river-wa
 tershed-stewardship-board-meeting.html
END:VEVENT
END:VCALENDAR
